BEGIN:VCALENDAR
VERSION:2.0
PRODID:-//Olympic Hills PTA - ECPv6.15.17.1//NONSGML v1.0//EN
CALSCALE:GREGORIAN
METHOD:PUBLISH
X-ORIGINAL-URL:https://olympichillspta.org
X-WR-CALDESC:Events for Olympic Hills PTA
REFRESH-INTERVAL;VALUE=DURATION:PT1H
X-Robots-Tag:noindex
X-PUBLISHED-TTL:PT1H
BEGIN:VTIMEZONE
TZID:America/Los_Angeles
BEGIN:DAYLIGHT
TZOFFSETFROM:-0800
TZOFFSETTO:-0700
TZNAME:PDT
DTSTART:20240310T100000
END:DAYLIGHT
BEGIN:STANDARD
TZOFFSETFROM:-0700
TZOFFSETTO:-0800
TZNAME:PST
DTSTART:20241103T090000
END:STANDARD
BEGIN:DAYLIGHT
TZOFFSETFROM:-0800
TZOFFSETTO:-0700
TZNAME:PDT
DTSTART:20250309T100000
END:DAYLIGHT
BEGIN:STANDARD
TZOFFSETFROM:-0700
TZOFFSETTO:-0800
TZNAME:PST
DTSTART:20251102T090000
END:STANDARD
BEGIN:DAYLIGHT
TZOFFSETFROM:-0800
TZOFFSETTO:-0700
TZNAME:PDT
DTSTART:20260308T100000
END:DAYLIGHT
BEGIN:STANDARD
TZOFFSETFROM:-0700
TZOFFSETTO:-0800
TZNAME:PST
DTSTART:20261101T090000
END:STANDARD
END:VTIMEZONE
BEGIN:VEVENT
DTSTART;TZID=America/Los_Angeles:20250605T180000
DTEND;TZID=America/Los_Angeles:20250605T193000
DTSTAMP:20260424T114417
CREATED:20240912T174519Z
LAST-MODIFIED:20240912T174533Z
UID:7316-1749146400-1749151800@olympichillspta.org
SUMMARY:Family Engagement Night (PTA Member Meeting)
DESCRIPTION:
URL:https://olympichillspta.org/event/family-engagement-night-pta-member-meeting-4/
LOCATION:Washington
CATEGORIES:PTA Event
ATTACH;FMTTYPE=image/jpeg:https://olympichillspta.org/wp-content/uploads/2023/04/A8E9A2AF-E53A-4F8C-8662-9A1A0E1BD4ED.jpg
END:VEVENT
END:VCALENDAR