BEGIN:VCALENDAR
VERSION:2.0
PRODID:-//Olympic Hills PTA - ECPv6.15.17.1//NONSGML v1.0//EN
CALSCALE:GREGORIAN
METHOD:PUBLISH
X-WR-CALNAME:Olympic Hills PTA
X-ORIGINAL-URL:https://olympichillspta.org
X-WR-CALDESC:Events for Olympic Hills PTA
REFRESH-INTERVAL;VALUE=DURATION:PT1H
X-Robots-Tag:noindex
X-PUBLISHED-TTL:PT1H
BEGIN:VTIMEZONE
TZID:America/Los_Angeles
BEGIN:DAYLIGHT
TZOFFSETFROM:-0800
TZOFFSETTO:-0700
TZNAME:PDT
DTSTART:20240310T100000
END:DAYLIGHT
BEGIN:STANDARD
TZOFFSETFROM:-0700
TZOFFSETTO:-0800
TZNAME:PST
DTSTART:20241103T090000
END:STANDARD
BEGIN:DAYLIGHT
TZOFFSETFROM:-0800
TZOFFSETTO:-0700
TZNAME:PDT
DTSTART:20250309T100000
END:DAYLIGHT
BEGIN:STANDARD
TZOFFSETFROM:-0700
TZOFFSETTO:-0800
TZNAME:PST
DTSTART:20251102T090000
END:STANDARD
BEGIN:DAYLIGHT
TZOFFSETFROM:-0800
TZOFFSETTO:-0700
TZNAME:PDT
DTSTART:20260308T100000
END:DAYLIGHT
BEGIN:STANDARD
TZOFFSETFROM:-0700
TZOFFSETTO:-0800
TZNAME:PST
DTSTART:20261101T090000
END:STANDARD
END:VTIMEZONE
BEGIN:VEVENT
DTSTART;TZID=America/Los_Angeles:20250530T083000
DTEND;TZID=America/Los_Angeles:20250530T140000
DTSTAMP:20260424T132243
CREATED:20250205T002505Z
LAST-MODIFIED:20250205T002507Z
UID:8247-1748593800-1748613600@olympichillspta.org
SUMMARY:5th Grade Field Trip - Pa'akai at Seattle Children's Theater
DESCRIPTION:
URL:https://olympichillspta.org/event/5th-grade-field-trip-paakai-at-seattle-childrens-theater/
LOCATION:Washington
CATEGORIES:PTA Event
ATTACH;FMTTYPE=image/png:https://olympichillspta.org/wp-content/uploads/2023/04/E1DE93AF-2F35-4759-B2DD-357BEE30B80A.png
END:VEVENT
BEGIN:VEVENT
DTSTART;TZID=America/Los_Angeles:20250530T173000
DTEND;TZID=America/Los_Angeles:20250530T200000
DTSTAMP:20260424T132243
CREATED:20240912T163212Z
LAST-MODIFIED:20240912T163230Z
UID:7299-1748626200-1748635200@olympichillspta.org
SUMMARY:PTA Family Movie Night - Turning Red
DESCRIPTION:Join the PTA in the Ottertorium (Cafeteria) to watch Turning Red! All concessions only $1 each. Doors and concessions open at 5:30pm. Movie starts at 6pm. $5 suggested donation per family.  \n\n\n\nPlease note: Supervision is not provided. All students must be accompanied and supervised by an adult.
URL:https://olympichillspta.org/event/pta-family-movie-night-turning-red/
LOCATION:Washington
CATEGORIES:PTA Event
ATTACH;FMTTYPE=image/png:https://olympichillspta.org/wp-content/uploads/2023/09/1517046.png
END:VEVENT
END:VCALENDAR