BEGIN:VCALENDAR
VERSION:2.0
PRODID:-//Olympic Hills PTA - ECPv6.15.17.1//NONSGML v1.0//EN
CALSCALE:GREGORIAN
METHOD:PUBLISH
X-ORIGINAL-URL:https://olympichillspta.org
X-WR-CALDESC:Events for Olympic Hills PTA
REFRESH-INTERVAL;VALUE=DURATION:PT1H
X-Robots-Tag:noindex
X-PUBLISHED-TTL:PT1H
BEGIN:VTIMEZONE
TZID:America/Los_Angeles
BEGIN:DAYLIGHT
TZOFFSETFROM:-0800
TZOFFSETTO:-0700
TZNAME:PDT
DTSTART:20240310T100000
END:DAYLIGHT
BEGIN:STANDARD
TZOFFSETFROM:-0700
TZOFFSETTO:-0800
TZNAME:PST
DTSTART:20241103T090000
END:STANDARD
BEGIN:DAYLIGHT
TZOFFSETFROM:-0800
TZOFFSETTO:-0700
TZNAME:PDT
DTSTART:20250309T100000
END:DAYLIGHT
BEGIN:STANDARD
TZOFFSETFROM:-0700
TZOFFSETTO:-0800
TZNAME:PST
DTSTART:20251102T090000
END:STANDARD
BEGIN:DAYLIGHT
TZOFFSETFROM:-0800
TZOFFSETTO:-0700
TZNAME:PDT
DTSTART:20260308T100000
END:DAYLIGHT
BEGIN:STANDARD
TZOFFSETFROM:-0700
TZOFFSETTO:-0800
TZNAME:PST
DTSTART:20261101T090000
END:STANDARD
END:VTIMEZONE
BEGIN:VEVENT
DTSTART;TZID=America/Los_Angeles:20250523T083000
DTEND;TZID=America/Los_Angeles:20250523T140000
DTSTAMP:20260424T133304
CREATED:20250205T002317Z
LAST-MODIFIED:20250205T002319Z
UID:8245-1747989000-1748008800@olympichillspta.org
SUMMARY:Kindergarten Field Trip - Woodland Park Zoo
DESCRIPTION:
URL:https://olympichillspta.org/event/kindergarten-field-trip-woodland-park-zoo/
LOCATION:Washington
CATEGORIES:PTA Event
ATTACH;FMTTYPE=image/png:https://olympichillspta.org/wp-content/uploads/2023/04/E1DE93AF-2F35-4759-B2DD-357BEE30B80A.png
END:VEVENT
END:VCALENDAR