BEGIN:VCALENDAR
VERSION:2.0
PRODID:-//Olympic Hills PTA - ECPv6.15.17.1//NONSGML v1.0//EN
CALSCALE:GREGORIAN
METHOD:PUBLISH
X-ORIGINAL-URL:https://olympichillspta.org
X-WR-CALDESC:Events for Olympic Hills PTA
REFRESH-INTERVAL;VALUE=DURATION:PT1H
X-Robots-Tag:noindex
X-PUBLISHED-TTL:PT1H
BEGIN:VTIMEZONE
TZID:America/Los_Angeles
BEGIN:DAYLIGHT
TZOFFSETFROM:-0800
TZOFFSETTO:-0700
TZNAME:PDT
DTSTART:20240310T100000
END:DAYLIGHT
BEGIN:STANDARD
TZOFFSETFROM:-0700
TZOFFSETTO:-0800
TZNAME:PST
DTSTART:20241103T090000
END:STANDARD
BEGIN:DAYLIGHT
TZOFFSETFROM:-0800
TZOFFSETTO:-0700
TZNAME:PDT
DTSTART:20250309T100000
END:DAYLIGHT
BEGIN:STANDARD
TZOFFSETFROM:-0700
TZOFFSETTO:-0800
TZNAME:PST
DTSTART:20251102T090000
END:STANDARD
BEGIN:DAYLIGHT
TZOFFSETFROM:-0800
TZOFFSETTO:-0700
TZNAME:PDT
DTSTART:20260308T100000
END:DAYLIGHT
BEGIN:STANDARD
TZOFFSETFROM:-0700
TZOFFSETTO:-0800
TZNAME:PST
DTSTART:20261101T090000
END:STANDARD
END:VTIMEZONE
BEGIN:VEVENT
DTSTART;TZID=America/Los_Angeles:20250427T131000
DTEND;TZID=America/Los_Angeles:20250427T170000
DTSTAMP:20260424T132417
CREATED:20250305T202207Z
LAST-MODIFIED:20250310T185742Z
UID:8274-1745759400-1745773200@olympichillspta.org
SUMMARY:Mariner's Game
DESCRIPTION:Come to a Mariner’s Game with other Olympic Hills Elementary Families!  \n\n\n\n\nMariners vs. Marlins. Seats are in Section 312. \n\n\n\nDeadline to order tickets is April 13th. \n\n\n\nTickets will be emailed to you from olympichillspta@gmail.com by April 23rd. \n\n\n\n\nThe PTA has reserved a limited number of tickets for families who would like to attend\, but require financial assistance. To receive assistance\, please email info@olympichillspta.org
URL:https://olympichillspta.org/event/mariners/
LOCATION:T-Mobile Park\, 1250 1st Ave S\, Seattle\, Washington\, 98134\, United States
CATEGORIES:PTA Event
ATTACH;FMTTYPE=image/png:https://olympichillspta.org/wp-content/uploads/2025/03/Seattle_Mariners_logo_low_res.svg_.png
END:VEVENT
END:VCALENDAR